Workbook

Sheet Stream-Hilfsblatt (Status)
A1: Nicht begonnen
A2: Bonus offen
A3: Bonus In Bearbeitung
A4: In Bearbeitung
A5: Erledigt

Sheet Streams
A1: Lfd. # | B1: Datum | C1: Streamdauer | D1: Entfallen (Roh) | E1: Regulär (Roh) | F1: Bonus (Roh) | G1: Regulär (cutted) | H1: Bonus (cutted) | I1: Raus / Offen | J1: Anzahl (reg.) | K1: Anzahl (Boni) | L1: Status | M1: Auflösung | N1: Audiobitrate | O1: Gesamtbitrate | P1: Größe | R1: Position | S1: Wert
A2: 1 | B2: 45744 | C2: 0.3650463 | D2: =C2-(IF(ISNUMBER(E2),E2,0)+(IF(ISNUMBER(F2),F2,0))) -> 0.083333333 | E2: 0.12719907 | F2: 0.15451389 | G2: =SUM(Folgen!F2:F3) -> 0.071898148 | I2: =C2-(IF(ISNUMBER(G2),G2,0)+(IF(ISNUMBER(H2),H2,0)+(IF(ISNUMBER(D2),D2,0)))) -> 0.20981481 | J2: 2 | L2: Bonus offen | M2: 1440x810 | N2: 157 | O2: 6158 | P2: 22.6 | R2: Anzahl Streams | S2: =COUNTA(A:A) - 1 -> 17
A3: 2 | B3: 45751 | C3: 0.23321759 | D3: =C3-(IF(ISNUMBER(E3),E3,0)+(IF(ISNUMBER(F3),F3,0))) -> 0.081956019 | E3: - | F3: 0.15126157 | G3: - | I3: =C3-(IF(ISNUMBER(G3),G3,0)+(IF(ISNUMBER(H3),H3,0)+(IF(ISNUMBER(D3),D3,0)))) -> 0.15126157 | J3: - | L3: Bonus offen | M3: 1440x810 | N3: 147 | O3: 6147 | P3: 14.4 | R3: Gesamtdauer | S3: =SUM(C:C) -> 3.6505093
A4: 3 | B4: 45758 | C4: 0.38275463 | D4: =C4-(IF(ISNUMBER(E4),E4,0)+(IF(ISNUMBER(F4),F4,0))) -> 0 | E4: 0.27686343 | F4: 0.1058912 | G4: =SUM(Folgen!F4:F8) -> 0.16012731 | I4: =C4-(IF(ISNUMBER(G4),G4,0)+(IF(ISNUMBER(H4),H4,0)+(IF(ISNUMBER(D4),D4,0)))) -> 0.22262731 | J4: 5 | L4: Bonus offen | M4: 1440x810 | N4: 159 | O4: 6159 | P4: 23.7 | R4: Gesamtdauer (reg., roh) | S4: =SUM(C:C)-SUM(D:D)-SUM(F:F) -> 2.2997685
A5: 4 | B5: 45765 | C5: 0.24201389 | D5: =C5-(IF(ISNUMBER(E5),E5,0)+(IF(ISNUMBER(F5),F5,0))) -> 0.0020833333 | E5: 0.13622685 | F5: 0.1037037 | G5: =SUM(Folgen!F9:'Folgen'!F11) -> 0.10887731 | I5: =C5-(IF(ISNUMBER(G5),G5,0)+(IF(ISNUMBER(H5),H5,0)+(IF(ISNUMBER(D5),D5,0)))) -> 0.13105324 | J5: 3 | L5: Bonus offen | M5: 1664x936 | N5: 129 | O5: 6129 | P5: 14.9 | R5: Gesamtdauer (Bonus, roh) | S5: =SUM(F:F) -> 1.1112616
A6: 5 | B6: 45772 | C6: 0.25902778 | D6: =C6-(IF(ISNUMBER(E6),E6,0)+(IF(ISNUMBER(F6),F6,0))) -> 0 | E6: 0.25902778 | F6: - | G6: =SUM(Folgen!F14:'Folgen'!F15) -> 0.06443287 | H6: - | I6: =C6-(IF(ISNUMBER(G6),G6,0)+(IF(ISNUMBER(H6),H6,0)+(IF(ISNUMBER(D6),D6,0)))) -> 0.19459491 | J6: 1 | K6: - | L6: In Bearbeitung | M6: 1664x936 | N6: 129 | O6: 6130 | P6: 15.9 | R6: Entfallene Zeit (insg., roh) | S6: =SUM(D:D) -> 0.23947917
A7: 6 | B7: 45786 | C7: 0.17122685 | D7: =C7-(IF(ISNUMBER(E7),E7,0)+(IF(ISNUMBER(F7),F7,0))) -> 0.012569444 | E7: 0.15865741 | F7: - | G7: =SUM(Folgen!F12) -> 0.03337963 | H7: - | I7: =C7-(IF(ISNUMBER(G7),G7,0)+(IF(ISNUMBER(H7),H7,0)+(IF(ISNUMBER(D7),D7,0)))) -> 0.12527778 | J7: 1 | K7: - | L7: In Bearbeitung | M7: 1280x720 | N7: 127 | O7: 6128 | P7: 10.5 | R7: Gegenrechnung = NULL | S7: =S3-SUM(S4:S6) -> 0
A8: 7 | B8: 45800 | C8: 0.21143519 | D8: =C8-(IF(ISNUMBER(E8),E8,0)+(IF(ISNUMBER(F8),F8,0))) -> 0.028703704 | E8: 0.18273148 | F8: - | H8: - | I8: =C8-(IF(ISNUMBER(G8),G8,0)+(IF(ISNUMBER(H8),H8,0)+(IF(ISNUMBER(D8),D8,0)))) -> 0.18273148 | K8: - | L8: Nicht begonnen | M8: 1280x720 | N8: 129 | O8: 6129 | P8: 13 | R8: Gesamtdauer (reg., cutted) | S8: =SUM(G:G) -> 0.43871528
A9: 8 | B9: 45807 | C9: 0.19554398 | D9: =C9-(IF(ISNUMBER(E9),E9,0)+(IF(ISNUMBER(F9),F9,0))) -> 0 | E9: 0.19554398 | F9: - | H9: - | I9: =C9-(IF(ISNUMBER(G9),G9,0)+(IF(ISNUMBER(H9),H9,0)+(IF(ISNUMBER(D9),D9,0)))) -> 0.19554398 | K9: - | L9: Nicht begonnen | M9: 1280x720 | N9: 128 | O9: 6129 | P9: 12 | R9: Gesamtdauer (Bonus, cutted) | S9: =SUM(H:H) -> 0
A10: 9 | B10: 45821 | C10: 0.16789352 | D10: =C10-(IF(ISNUMBER(E10),E10,0)+(IF(ISNUMBER(F10),F10,0))) -> 0 | E10: 0.047199074 | F10: 0.12069444 | I10: =C10-(IF(ISNUMBER(G10),G10,0)+(IF(ISNUMBER(H10),H10,0)+(IF(ISNUMBER(D10),D10,0)))) -> 0.16789352 | L10: Nicht begonnen | M10: 1280x720 | N10: 129 | O10: 6131 | P10: 10.3 | R10: Raus / Offen (insg.) | S10: =SUM(I:I) -> 2.9723148
A11: 10 | B11: 45835 | C11: 0.20262731 | D11: =C11-(IF(ISNUMBER(E11),E11,0)+(IF(ISNUMBER(F11),F11,0))) -> 0.030833333 | E11: 0.17179398 | F11: - | H11: - | I11: =C11-(IF(ISNUMBER(G11),G11,0)+(IF(ISNUMBER(H11),H11,0)+(IF(ISNUMBER(D11),D11,0)))) -> 0.17179398 | K11: - | L11: Nicht begonnen | M11: 1280x720 | N11: 130 | O11: 6130 | P11: 12.5 | R11: Gegenrechnung = Entfallene Zeit | S11: =S3-SUM(S8:S10) -> 0.23947917
A12: 11 | B12: 45899 | C12: 0.18915509 | D12: =C12-(IF(ISNUMBER(E12),E12,0)+(IF(ISNUMBER(F12),F12,0))) -> 0 | E12: 0.18915509 | F12: - | H12: - | I12: =C12-(IF(ISNUMBER(G12),G12,0)+(IF(ISNUMBER(H12),H12,0)+(IF(ISNUMBER(D12),D12,0)))) -> 0.18915509 | K12: - | L12: Nicht begonnen | M12: 1920x1080 | N12: 160 | O12: 6161 | P12: 11.7 | R12: Gesamtanzahl (reg.) | S12: =SUM(J:J) -> 12
A13: 12 | B13: 45905 | C13: 0.21795139 | D13: =C13-(IF(ISNUMBER(E13),E13,0)+(IF(ISNUMBER(F13),F13,0))) -> 0 | E13: 0.091481481 | F13: 0.12646991 | I13: =C13-(IF(ISNUMBER(G13),G13,0)+(IF(ISNUMBER(H13),H13,0)+(IF(ISNUMBER(D13),D13,0)))) -> 0.21795139 | L13: Nicht begonnen | M13: 1280x720 | N13: 129 | O13: 6130 | P13: 13.4 | R13: Gesamtanzahl (Boni) | S13: =SUM(K:K) -> 0
A14: 13 | B14: 45912 | C14: 0.25123843 | D14: =C14-(IF(ISNUMBER(E14),E14,0)+(IF(ISNUMBER(F14),F14,0))) -> 0 | E14: 0.092175926 | F14: 0.1590625 | I14: =C14-(IF(ISNUMBER(G14),G14,0)+(IF(ISNUMBER(H14),H14,0)+(IF(ISNUMBER(D14),D14,0)))) -> 0.25123843 | L14: Nicht begonnen | M14: 1280x720 | N14: 127 | O14: 6127 | P14: 15.5 | R14: Gesamtanzahl Folgen | S14: =SUM(S12:S13) -> 12
A15: 14 | B15: 45919 | C15: 0.16634259 | D15: =C15-(IF(ISNUMBER(E15),E15,0)+(IF(ISNUMBER(F15),F15,0))) -> 0 | E15: 0.16634259 | F15: - | I15: =C15-(IF(ISNUMBER(G15),G15,0)+(IF(ISNUMBER(H15),H15,0)+(IF(ISNUMBER(D15),D15,0)))) -> 0.16634259 | K15: - | L15: Nicht begonnen | M15: 1280x720 | N15: 127 | O15: 6128 | P15: 10.2 | R15: Gesamtgröße | S15: =SUM(P:P) -> 224.9
A16: 15 | B16: 45975 | C16: 0.18966435 | D16: =C16-(IF(ISNUMBER(E16),E16,0)+(IF(ISNUMBER(F16),F16,0))) -> 0 | E16: - | F16: 0.18966435 | G16: - | I16: =C16-(IF(ISNUMBER(G16),G16,0)+(IF(ISNUMBER(H16),H16,0)+(IF(ISNUMBER(D16),D16,0)))) -> 0.18966435 | J16: - | L16: Bonus offen | M16: 1536x864 | N16: 127 | O16: 6128 | P16: 11.7 | R16: Nicht begonnen | S16: =COUNTIF(L:L, "Nicht begonnen") -> 10
A17: 16 | B17: 45989 | C17: 0.20537037 | D17: =C17-(IF(ISNUMBER(E17),E17,0)+(IF(ISNUMBER(F17),F17,0))) -> 0 | E17: 0.20537037 | F17: - | H17: - | I17: =C17-(IF(ISNUMBER(G17),G17,0)+(IF(ISNUMBER(H17),H17,0)+(IF(ISNUMBER(D17),D17,0)))) -> 0.20537037 | K17: - | L17: Nicht begonnen | M17: 1536x864 | N17: 128 | O17: 6128 | P17: 12.6 | R17: Bonus offen | S17: =COUNTIF(L:L, "Bonus offen") -> 5
A18: 17 | B18: 46010 | D18: =C18-(IF(ISNUMBER(E18),E18,0)+(IF(ISNUMBER(F18),F18,0))) -> 0 | I18: =C18-(IF(ISNUMBER(G18),G18,0)+(IF(ISNUMBER(H18),H18,0)+(IF(ISNUMBER(D18),D18,0)))) -> 0 | L18: Nicht begonnen | M18: 1536x864 | R18: Bonus In Bearbeitung | S18: =COUNTIF(L:L, "Bonus In Bearbeitung") -> 0
R19: In Bearbeitung | S19: =COUNTIF(L:L, "In Bearbeitung") -> 2
R20: Erledigt | S20: =COUNTIF(L:L, "Erledigt") -> 0
R21: Meistgenutzte Auflösung | S21: {=IFERROR(INDEX(M2:M2500, MATCH(MAX(COUNTIF(M2:M2500, M2:M2500)), COUNTIF(M2:M2500, M2:M2500), 0)), "Kein häufigster Wert")} -> 1280x720
R22: Durchschnittliche Audiobitrate | S22: =AVERAGE(N:N) -> 135.125
R23: Durchschnittliche Gesamtbitrate | S23: =AVERAGE(O:O) -> 6135.75
R24: 2025 | S24: =COUNTIFS($B$2:$B$2500, ">=" & DATE($R24, 1, 1), $B$2:$B$2500, "<=" & DATE($R24, 12, 31)) -> 17
R25: 2026 | S25: =COUNTIFS($B$2:$B$2500, ">=" & DATE($R25, 1, 1), $B$2:$B$2500, "<=" & DATE($R25, 12, 31)) -> 0
R26: 2027 | S26: =COUNTIFS($B$2:$B$2500, ">=" & DATE($R26, 1, 1), $B$2:$B$2500, "<=" & DATE($R26, 12, 31)) -> 0

Sheet Folgen
A1: St. # | B1: F. # | C1: Titel | D1: Hosts | E1: Gäste | F1: Dauer | G1: Bonus | H1: Status | I1: Stream | J1: Upload | K1: Auflösung | L1: Bitrate (WAV) | M1: AudioBR (MP4) | N1: GesamtBR (MP4) | O1: Größe (WAV) | P1: Größe (MP4) | Q1: YouTube | R1: Spotify | T1: Position | U1: Wert
A2: 1 | B2: 1 | C2: Es geht los – und keiner war vorbereitet | D2: A, B, F, M | F2: 0.030324074 | H2: Released | I2: 45744 | J2: 45940 | K2: 1920x1080 | L2: 2304 | M2: 190 | N2: 3593 | O2: 0.719 | P2: 1.09 | Q2: Link | R2: Link | T2: Anzahl Staffeln | U2: {=SUM(IF(FREQUENCY(A2:A2500, A2:A2500)>0, 1))} -> 2
A3: 1 | B3: 2 | C3: Zwischen Zapfhahn und Wahnsinn | D3: A, B, F, M | F3: 0.041574074 | H3: Released | I3: 45744 | J3: 45947 | K3: 1920x1080 | L3: 2304 | M3: 191 | N3: 6114 | O3: 0.986 | P3: 2.55 | Q3: Link | R3: Link | T3: Anzahl Folgen (insg.) | U3: =COUNTA(B2:B2500) -> 14
A4: 1 | B4: 3 | C4: Wie wir (endlich) auf den Namen kamen | D4: A, B, F, M | F4: 0.031388889 | H4: Released | I4: 45758 | J4: 45954 | K4: 1920x1080 | L4: 2304 | M4: 192 | N4: 4786 | O4: 0.744 | P4: 1.51 | Q4: Link | R4: Link | T4: Anzahl Folgen (reg.) | U4: =COUNTIFS(B2:B2500, "<>", G2:G2500, "") -> 13
A5: 1 | B5: 4 | C5: Wir sind alt! | D5: A, B, F, M | F5: 0.034039352 | H5: Released | I5: 45758 | J5: 45961 | K5: 1920x1080 | L5: 2304 | M5: 191 | N5: 6854 | O5: 0.807 | P5: 2.34 | Q5: Link | R5: Link | T5: Anzahl Folgen (Bonus) | U5: =COUNTIFS(B2:B2500, "<>", G2:G2500, "Ja") -> 1
A6: 1 | B6: 5 | C6: Hier spielt die Musik! Oder doch nicht? | D6: A, B, F, M | F6: 0.033865741 | H6: Released | I6: 45758 | J6: 45968 | K6: 1920x1080 | L6: 2304 | M6: 192 | N6: 7799 | O6: 0.803 | P6: 2.65 | Q6: Link | R6: Link | T6: Durchschnittl. Folgen pro Staffel | U6: {=AVERAGE(COUNTIF(A2:A2500, _xlfn._xlws.FILTER(_xlfn.UNIQUE(A2:A2500), _xlfn.UNIQUE(A2:A2500)<>"")))} -> 7
A7: 1 | B7: 6 | C7: Diese Folge sorgt für Stress im Kommentarbereich | D7: A, B, F, M | F7: 0.032476852 | H7: Released | I7: 45758 | J7: 45975 | K7: 1920x1080 | L7: 2304 | M7: 192 | N7: 7784 | O7: 0.77 | P7: 2.54 | Q7: Link | R7: Link | T7: Gesamtdauer (insg.) | U7: =SUM(F:F) -> 0.43871528
A8: 1 | B8: 7 | C8: Verstoffwechselt | D8: A, B, F, M | F8: 0.028356481 | H8: Released | I8: 45758 | J8: 45982 | K8: 1920x1080 | L8: 2304 | M8: 193 | N8: 7469 | O8: 0.672 | P8: 2.13 | Q8: Link | R8: Link | T8: Gesamtdauer (reg.) | U8: =SUMIFS(F2:F2500, G2:G2500, "") -> 0.43871528
A9: 1 | B9: 8 | C9: Vergenusswurzelt | D9: A, B, F, M | F9: 0.033391204 | H9: Released | I9: 45765 | J9: 45989 | K9: 1920x1080 | L9: 3072 | M9: 195 | N9: 6297 | O9: 1.03 | P9: 2.11 | Q9: Link | R9: Link | T9: Gesamtdauer (Bonus) | U9: =SUMIFS(F2:F2500, G2:G2500, "Ja") -> 0
A10: 1 | B10: 9 | C10: Alkohol, Abos und Angriff aus dem Insektenreich | D10: A, B, F, M | F10: 0.041574074 | H10: Hochgeladen | I10: 45765 | J10: 45996 | K10: 1920x1080 | L10: 3072 | M10: 194 | N10: 6197 | O10: 1.28 | P10: 2.59 | T10: Durchschnittsdauer / Folge | U10: =AVERAGE(F:F) -> 0.033747329
A11: 1 | B11: 10 | C11: Hamsternapping | D11: A, B, F, M | F11: 0.033912037 | H11: Hochgeladen | I11: 45765 | J11: 46003 | K11: 1920x1080 | L11: 3072 | M11: 194 | N11: 6157 | O11: 1.04 | P11: 2.1 | T11: Gesamtgröße (WAV) | U11: =SUM(O:O) -> 9.82
A12: 1 | B12: 11 | C12: Krank, verwirrt & komplett random – Also Alles, wie immer | D12: A, B, F, M | F12: 0.03337963 | H12: Hochgeladen | I12: 45786 | J12: 46010 | K12: 1920x1080 | L12: 3072 | M12: 194 | N12: 8244 | O12: 0.969 | P12: 2.54 | T12: Gesamtgröße (MP4) | U12: =SUM(P:P) -> 24.15
A13: 1 | B13: 12 | G13: Ja | H13: Nicht begonnen | J13: 46011 | K13: 1920x1080 | T13: Gesamtgröße (insg.) | U13: =SUM(U11:U12) -> 33.97
A14: 2 | B14: 1 | C14: Fabis Türkeireise – Ankunft im Durcheinander | D14: A, B, F, M | F14: 0.034189815 | H14: Gecutted | I14: 45772 | J14: 46031 | K14: 1920x1080 | T14: Nicht begonnen | U14: =COUNTIF(H:H, "Nicht begonnen") -> 1
A15: 2 | B15: 2 | C15: Fabis Türkeireise – Hotelzimmer oder Wohnung? | D15: A, B, F, M | F15: 0.030243056 | H15: Gecutted | I15: 45772 | J15: 46038 | K15: 1920x1080 | T15: In Bearbeitung | U15: =COUNTIF(H:H, "In Bearbeitung") -> 0
T16: Gecutted | U16: =COUNTIF(H:H, "Gecutted") -> 2
T17: Gerendert | U17: =COUNTIF(H:H, "Gerendert") -> 0
T18: Hochgeladen | U18: =COUNTIF(H:H, "Hochgeladen") -> 3
T19: Released | U19: =COUNTIF(H:H, "Released") -> 8
T20: Meistgenutzte Auflösung | U20: {=IFERROR(INDEX(K2:K2500, MATCH(MAX(COUNTIF(K2:K2500, K2:K2500)), COUNTIF(K2:K2500, K2:K2500), 0)), "Kein häufigster Wert")} -> 1920x1080
T21: Durchschnittl. BR (WAV) | U21: =AVERAGE(L:L) -> 2583.2727
T22: Durchschnittl. AudioBR (MP4) | U22: =AVERAGE(M:M) -> 192.54545
T23: Durchschnittl. GesamtBR (MP4) | U23: =AVERAGE(N:N) -> 6481.2727
T24: 2025 | U24: =COUNTIFS($J$2:$J$2500, ">=" & DATE($T24, 1, 1), $J$2:$J$2500, "<=" & DATE($T24, 12, 31)) -> 12
T25: 2026 | U25: =COUNTIFS($J$2:$J$2500, ">=" & DATE($T25, 1, 1), $J$2:$J$2500, "<=" & DATE($T25, 12, 31)) -> 2
T26: 2027 | U26: =COUNTIFS($J$2:$J$2500, ">=" & DATE($T26, 1, 1), $J$2:$J$2500, "<=" & DATE($T26, 12, 31)) -> 0

Sheet Folgen, Hilfstabelle
A1: A | B1: Nicht begonnen
A2: A, B | B2: In Bearbeitung
A3: A, F | B3: Gecutted
A4: A, M | B4: Gerendert
A5: A, B, F | B5: Hochgeladen
A6: A, B, M | B6: Released
A7: A, F, M
A8: A, B, F, M
